BEGIN:VCALENDAR
VERSION:2.0
PRODID:-//Verkehrsverein Hombrechtikon - ECPv6.15.20//NONSGML v1.0//EN
CALSCALE:GREGORIAN
METHOD:PUBLISH
X-WR-CALNAME:Verkehrsverein Hombrechtikon
X-ORIGINAL-URL:https://verkehrsverein-hombi.ch
X-WR-CALDESC:Veranstaltungen für Verkehrsverein Hombrechtikon
REFRESH-INTERVAL;VALUE=DURATION:PT1H
X-Robots-Tag:noindex
X-PUBLISHED-TTL:PT1H
BEGIN:VTIMEZONE
TZID:Europe/Zurich
BEGIN:DAYLIGHT
TZOFFSETFROM:+0100
TZOFFSETTO:+0200
TZNAME:CEST
DTSTART:20230326T010000
END:DAYLIGHT
BEGIN:STANDARD
TZOFFSETFROM:+0200
TZOFFSETTO:+0100
TZNAME:CET
DTSTART:20231029T010000
END:STANDARD
BEGIN:DAYLIGHT
TZOFFSETFROM:+0100
TZOFFSETTO:+0200
TZNAME:CEST
DTSTART:20240331T010000
END:DAYLIGHT
BEGIN:STANDARD
TZOFFSETFROM:+0200
TZOFFSETTO:+0100
TZNAME:CET
DTSTART:20241027T010000
END:STANDARD
BEGIN:DAYLIGHT
TZOFFSETFROM:+0100
TZOFFSETTO:+0200
TZNAME:CEST
DTSTART:20250330T010000
END:DAYLIGHT
BEGIN:STANDARD
TZOFFSETFROM:+0200
TZOFFSETTO:+0100
TZNAME:CET
DTSTART:20251026T010000
END:STANDARD
END:VTIMEZONE
BEGIN:VEVENT
DTSTART;TZID=Europe/Zurich:20240801T173000
DTEND;TZID=Europe/Zurich:20240801T173000
DTSTAMP:20260425T185137
CREATED:20240703T105258Z
LAST-MODIFIED:20240703T105258Z
UID:1133-1722533400-1722533400@verkehrsverein-hombi.ch
SUMMARY:1. Augustfeier 2024
DESCRIPTION:Wir und die Gemeindebehörde freuen uns am Donnerstag\, 1. August ein attraktives Festprogramm anbieten zu können. \nOrt: Schützenstand Langacher\, 8634 Hombrechtikon \n17:30 Uhr              Eröffnung der Festwirtschaft \n19:00 Uhr              Unterhaltung: Sängerverein Hombrechtikon\n \n19:20 Uhr              Begrüssung: Verkehrsverein Hombrechtikon \n19:30 Uhr              Festrede:       Adrian Förster\, CEO von Save the Children\n \n19:45 Uhr             Singen der Landeshymne mit dem Sängerverein Hombrechtikon \n20:00 Uhr             Barbetrieb \n20.15 Uhr             Ausgabe der Lampions für Kinder \n  \nDie Behörden von Hombrechtikon und der Verkehrsverein wünschen bis dahin eine schöne Sommerzeit und freuen sich auf ein gelungenes Fest mit zahlreichen Gästen. \n 
URL:https://verkehrsverein-hombi.ch/event/1-augustfeier-2024/
END:VEVENT
END:VCALENDAR