BEGIN:VCALENDAR
VERSION:2.0
PRODID:-//Verkehrsverein Hombrechtikon - ECPv6.15.20//NONSGML v1.0//EN
CALSCALE:GREGORIAN
METHOD:PUBLISH
X-WR-CALNAME:Verkehrsverein Hombrechtikon
X-ORIGINAL-URL:https://verkehrsverein-hombi.ch
X-WR-CALDESC:Veranstaltungen für Verkehrsverein Hombrechtikon
REFRESH-INTERVAL;VALUE=DURATION:PT1H
X-Robots-Tag:noindex
X-PUBLISHED-TTL:PT1H
BEGIN:VTIMEZONE
TZID:Europe/Zurich
BEGIN:DAYLIGHT
TZOFFSETFROM:+0100
TZOFFSETTO:+0200
TZNAME:CEST
DTSTART:20240331T010000
END:DAYLIGHT
BEGIN:STANDARD
TZOFFSETFROM:+0200
TZOFFSETTO:+0100
TZNAME:CET
DTSTART:20241027T010000
END:STANDARD
BEGIN:DAYLIGHT
TZOFFSETFROM:+0100
TZOFFSETTO:+0200
TZNAME:CEST
DTSTART:20250330T010000
END:DAYLIGHT
BEGIN:STANDARD
TZOFFSETFROM:+0200
TZOFFSETTO:+0100
TZNAME:CET
DTSTART:20251026T010000
END:STANDARD
BEGIN:DAYLIGHT
TZOFFSETFROM:+0100
TZOFFSETTO:+0200
TZNAME:CEST
DTSTART:20260329T010000
END:DAYLIGHT
BEGIN:STANDARD
TZOFFSETFROM:+0200
TZOFFSETTO:+0100
TZNAME:CET
DTSTART:20261025T010000
END:STANDARD
END:VTIMEZONE
BEGIN:VEVENT
DTSTART;VALUE=DATE:20251201
DTEND;VALUE=DATE:20251225
DTSTAMP:20260424T212831
CREATED:20250821T161942Z
LAST-MODIFIED:20250821T161942Z
UID:1274-1764547200-1766620799@verkehrsverein-hombi.ch
SUMMARY:Adventsfenster 2025
DESCRIPTION:Das „Adventsfenster“ bringt in der Vorweihnachtszeit stimmungsvolle Lichtblicke in unsere Gemeinde. Jeden Abend im Dezember wird ein liebevoll dekoriertes Fenster oder ein festlicher Hauseingang geöffnet und beleuchtet. Die Aktion lädt zu gemütlichen Spaziergängen ein und schafft eine besondere Atmosphäre\, in der Alt und Jung die Vorfreude auf Weihnachten gemeinsam erleben können. \nNach dem Erfolg im letzten Jahr lädt Hombrechtikon auch 2025 wieder zu stimmungsvollen Adventsfenstern ein. Neu organisiert vom Verkehrsverein Hombrechtikon\, bleibt das bewährte Konzept des OK mit Jiska Wyser und Mathias Gäumann erhalten\, ergänzt durch kleine Verbesserungen für noch schönere Adventsfenster. \nAlle wichtigen Information und auch gleich Anmeldung zur Teilnahme direkt über diesen Link ! Sichern Sie sich Ihren Wunschtag!
URL:https://verkehrsverein-hombi.ch/event/adventsfenster-2025/
END:VEVENT
END:VCALENDAR