BEGIN:VCALENDAR
VERSION:2.0
PRODID:-//Verkehrsverein Hombrechtikon - ECPv6.15.20//NONSGML v1.0//EN
CALSCALE:GREGORIAN
METHOD:PUBLISH
X-ORIGINAL-URL:https://verkehrsverein-hombi.ch
X-WR-CALDESC:Veranstaltungen für Verkehrsverein Hombrechtikon
REFRESH-INTERVAL;VALUE=DURATION:PT1H
X-Robots-Tag:noindex
X-PUBLISHED-TTL:PT1H
BEGIN:VTIMEZONE
TZID:Europe/Zurich
BEGIN:DAYLIGHT
TZOFFSETFROM:+0100
TZOFFSETTO:+0200
TZNAME:CEST
DTSTART:20250330T010000
END:DAYLIGHT
BEGIN:STANDARD
TZOFFSETFROM:+0200
TZOFFSETTO:+0100
TZNAME:CET
DTSTART:20251026T010000
END:STANDARD
BEGIN:DAYLIGHT
TZOFFSETFROM:+0100
TZOFFSETTO:+0200
TZNAME:CEST
DTSTART:20260329T010000
END:DAYLIGHT
BEGIN:STANDARD
TZOFFSETFROM:+0200
TZOFFSETTO:+0100
TZNAME:CET
DTSTART:20261025T010000
END:STANDARD
BEGIN:DAYLIGHT
TZOFFSETFROM:+0100
TZOFFSETTO:+0200
TZNAME:CEST
DTSTART:20270328T010000
END:DAYLIGHT
BEGIN:STANDARD
TZOFFSETFROM:+0200
TZOFFSETTO:+0100
TZNAME:CET
DTSTART:20271031T010000
END:STANDARD
END:VTIMEZONE
BEGIN:VEVENT
DTSTART;TZID=Europe/Zurich:20260627T170000
DTEND;TZID=Europe/Zurich:20260627T230000
DTSTAMP:20260424T144316
CREATED:20260419T125759Z
LAST-MODIFIED:20260419T130225Z
UID:1360-1782579600-1782601200@verkehrsverein-hombi.ch
SUMMARY:Musical Chaplin in Walenstadt
DESCRIPTION:Im Sommer 2026 erstmals als Openair-Musical in der Schweiz – Musik\, hinreissende Songs\, berühmte Original-Filmszenen\, Slapstick und aufregende Tanzeinlagen – so sprühend und faszinierend wie Charlie Chaplin selbst. \nErleben Sie das Musical „Chaplin“ in Walenstadt\nHier mehr erfahren und anmelden….
URL:https://verkehrsverein-hombi.ch/event/musical-chaplin-in-walenstadt/
END:VEVENT
END:VCALENDAR