BEGIN:VCALENDAR
VERSION:2.0
PRODID:-//Verkehrsverein Hombrechtikon - ECPv6.15.20//NONSGML v1.0//EN
CALSCALE:GREGORIAN
METHOD:PUBLISH
X-ORIGINAL-URL:https://verkehrsverein-hombi.ch
X-WR-CALDESC:Veranstaltungen für Verkehrsverein Hombrechtikon
REFRESH-INTERVAL;VALUE=DURATION:PT1H
X-Robots-Tag:noindex
X-PUBLISHED-TTL:PT1H
BEGIN:VTIMEZONE
TZID:Europe/Zurich
BEGIN:DAYLIGHT
TZOFFSETFROM:+0100
TZOFFSETTO:+0200
TZNAME:CEST
DTSTART:20240331T010000
END:DAYLIGHT
BEGIN:STANDARD
TZOFFSETFROM:+0200
TZOFFSETTO:+0100
TZNAME:CET
DTSTART:20241027T010000
END:STANDARD
BEGIN:DAYLIGHT
TZOFFSETFROM:+0100
TZOFFSETTO:+0200
TZNAME:CEST
DTSTART:20250330T010000
END:DAYLIGHT
BEGIN:STANDARD
TZOFFSETFROM:+0200
TZOFFSETTO:+0100
TZNAME:CET
DTSTART:20251026T010000
END:STANDARD
BEGIN:DAYLIGHT
TZOFFSETFROM:+0100
TZOFFSETTO:+0200
TZNAME:CEST
DTSTART:20260329T010000
END:DAYLIGHT
BEGIN:STANDARD
TZOFFSETFROM:+0200
TZOFFSETTO:+0100
TZNAME:CET
DTSTART:20261025T010000
END:STANDARD
END:VTIMEZONE
BEGIN:VEVENT
DTSTART;TZID=Europe/Zurich:20250801T173000
DTEND;TZID=Europe/Zurich:20250801T173000
DTSTAMP:20260425T012758
CREATED:20250707T094129Z
LAST-MODIFIED:20250707T094129Z
UID:1246-1754069400-1754069400@verkehrsverein-hombi.ch
SUMMARY:1. Augustfeier 2025
DESCRIPTION:Wir und die Gemeindebehörde freuen uns am Freitag\, 1. August ein attraktives Festprogramm anbieten zu können. \nOrt: Gut Rosenberg in Feldbach \n17:30h   Türöffnung\n18:30h   Spiel der Spielgemeinschaft Stäfa Hombrechtikon\n19:00h   Begrüssung VVH Urs Mumprecht\n19:05h   Begrüssung Gemeindepräsident Rainer Odermatt\n19:15h   Rede Martin Messner\n19:30h   Festredner\n20:00h   Singen der Landeshymne\n20:10h   Pause\n20:30h   Darbietung durch den Sängerverein\n21:00h   Abgabe der Lampions an die Kinder\n23:00h   „Night Glow“ – Ballonglühen \nDie Behörden von Hombrechtikon und der Verkehrsverein wünschen bis dahin eine schöne Sommerzeit und freuen sich auf ein gelungenes Fest mit zahlreichen Gästen. \n  \n 
URL:https://verkehrsverein-hombi.ch/event/1-augustfeier-2025/
END:VEVENT
END:VCALENDAR