BEGIN:VCALENDAR
VERSION:2.0
PRODID:-//Verkehrsverein Hombrechtikon - ECPv6.15.20//NONSGML v1.0//EN
CALSCALE:GREGORIAN
METHOD:PUBLISH
X-WR-CALNAME:Verkehrsverein Hombrechtikon
X-ORIGINAL-URL:https://verkehrsverein-hombi.ch
X-WR-CALDESC:Veranstaltungen für Verkehrsverein Hombrechtikon
REFRESH-INTERVAL;VALUE=DURATION:PT1H
X-Robots-Tag:noindex
X-PUBLISHED-TTL:PT1H
BEGIN:VTIMEZONE
TZID:Europe/Zurich
BEGIN:DAYLIGHT
TZOFFSETFROM:+0100
TZOFFSETTO:+0200
TZNAME:CEST
DTSTART:20250330T010000
END:DAYLIGHT
BEGIN:STANDARD
TZOFFSETFROM:+0200
TZOFFSETTO:+0100
TZNAME:CET
DTSTART:20251026T010000
END:STANDARD
BEGIN:DAYLIGHT
TZOFFSETFROM:+0100
TZOFFSETTO:+0200
TZNAME:CEST
DTSTART:20260329T010000
END:DAYLIGHT
BEGIN:STANDARD
TZOFFSETFROM:+0200
TZOFFSETTO:+0100
TZNAME:CET
DTSTART:20261025T010000
END:STANDARD
BEGIN:DAYLIGHT
TZOFFSETFROM:+0100
TZOFFSETTO:+0200
TZNAME:CEST
DTSTART:20270328T010000
END:DAYLIGHT
BEGIN:STANDARD
TZOFFSETFROM:+0200
TZOFFSETTO:+0100
TZNAME:CET
DTSTART:20271031T010000
END:STANDARD
END:VTIMEZONE
BEGIN:VEVENT
DTSTART;TZID=Europe/Zurich:20260104T000000
DTEND;TZID=Europe/Zurich:20260104T000000
DTSTAMP:20260424T183729
CREATED:20250707T094306Z
LAST-MODIFIED:20250707T094306Z
UID:1248-1767484800-1767484800@verkehrsverein-hombi.ch
SUMMARY:Neujahrsempfang 2026
DESCRIPTION:Die Bevölkerung von Hombrechtikon und Feldbach ist herzlich eingeladen!  am Sonntag\, 4. Januar 2026\,  im Gemeindesaal Blatten \nGenaue Zeit und Programm werden noch bekannt gegebben. \n  \n  \n 
URL:https://verkehrsverein-hombi.ch/event/neujahrsempfang-2026/
LOCATION:Bahnweg 6\, Hombrechtikon\, Bahnweg 6\, Hombrechtikon\, 8634\, Switzerland
END:VEVENT
BEGIN:VEVENT
DTSTART;TZID=Europe/Zurich:20260109T180000
DTEND;TZID=Europe/Zurich:20260109T200000
DTSTAMP:20260424T183729
CREATED:20170410T201449Z
LAST-MODIFIED:20251120T093157Z
UID:146-1767981600-1767988800@verkehrsverein-hombi.ch
SUMMARY:Christbaumverbrännete
DESCRIPTION:Reservieren Sie sich den Freitagabend\, 9. Januar 2026! \nEndlich wieder: Am Freitag\, 9. Januar führen wir wieder den Traditionellen Anlass mit Gross und Klein durch.\nDie grosse\, betreute Feuerwanne steht ab 18.00 Uhr auf dem Platz beim Schulhaus Neues Dörfli für die mitgebrachten Christbäume bereit. Sie und Ihre Kinder können erleben\, wie sich die verdorrten Tannenbäume im prasselnden Funkenregen in Hitze verwandeln. Über der entstandenen Glut können die Würste an den bereitliegenden Spiessen gebraten und mit einem Glas Punsch oder Glühwein verzehrt werden. \nWürste und Getränke werden vom Verkehrsverein gesponsert. \nWir freuen uns auf viele Teilnehmer und Teilnehmerinnen\, die den Christbaum für diesen Anlass aufbewahren und mitbringen! \nOrt: beim Schulhaus Neues Dörfli\, Hombrechtikon\nDatum: 9. Januar 2026\, ab 18 Uhr \n  \n \n 
URL:https://verkehrsverein-hombi.ch/event/bundesfeier/
LOCATION:Schulhau Neues Dörfli\, Feldbachstrasse 13\, Hombrechtikon\, 8634
END:VEVENT
END:VCALENDAR